BEGIN:VCALENDAR
VERSION:2.0
PRODID:-//The Jettie Baker Center - ECPv6.1.3//NONSGML v1.0//EN
CALSCALE:GREGORIAN
METHOD:PUBLISH
X-WR-CALNAME:The Jettie Baker Center
X-ORIGINAL-URL:https://jettiebakercenter.com
X-WR-CALDESC:Events for The Jettie Baker Center
REFRESH-INTERVAL;VALUE=DURATION:PT1H
X-Robots-Tag:noindex
X-PUBLISHED-TTL:PT1H
BEGIN:VTIMEZONE
TZID:America/New_York
BEGIN:DAYLIGHT
TZOFFSETFROM:-0500
TZOFFSETTO:-0400
TZNAME:EDT
DTSTART:20260308T070000
END:DAYLIGHT
BEGIN:STANDARD
TZOFFSETFROM:-0400
TZOFFSETTO:-0500
TZNAME:EST
DTSTART:20261101T060000
END:STANDARD
END:VTIMEZONE
BEGIN:VEVENT
DTSTART;TZID=America/New_York:20260502T170000
DTEND;TZID=America/New_York:20260502T220000
DTSTAMP:20260423T021614
CREATED:20260408T150438Z
LAST-MODIFIED:20260408T150438Z
UID:16742-1777741200-1777759200@jettiebakercenter.com
SUMMARY:"Run For The Roses" Derby Day Party
DESCRIPTION:The Jettie Baker Center and Wise Main St. Association have partnered to bring you the BEST Derby Day experience in the mountains! The Run for the Roses Derby Day Party will be held on Saturday\, May 2nd from 5pm – 10pm at the historic Jettie Baker Center Theater in Clintwood\, VA. Join us for the region’s PREMIER Derby Day Party – where “the best two minutes in sports” meets Southern Charm – big hats\, fast horses\, and a night to remember!\nEvent Highlights Include:\n· Live streaming (on the big screen) of the 152nd running of the Kentucky Derby\n· Live Music and dancing featuring Ron Shortt & the Possum Playboys with Special Guests Aaron & Lisa Davis\n· Cash bar with Derby-inspired Cocktails/Mocktails and delicious Southern Bites from The Charc Board (of course we will have Mint Juleps!)\n· Best Hat Contest and Derby-themed Casino-style Games with GREAT PRIZES!\n· “Winner’s Circle” Photo Opportunity and a chance to win a commemorative bottle of the 152nd Kentucky Derby Woodford Reserve Bourbon \nTICKETS—–>>>> https://www.eventbrite.com/e/run-for-the-roses-derby-day-party-tickets-1986547834048 \nThis event is 21+ and you have two great ticket options to choose from:\n· THE INFIELD (general admission) – $25/single OR $45/pair *Includes general admission\, viewing of the 152nd KY DERBY\, food\, music and dancing\, non-alcoholic/non-specialty drinks (water\, tea\, lemonade)\, photo opportunities\, and $50 in Derby Dollars game money per guest.\n· THE GRANDSTAND (VIP admission) – $40/single OR $75/pair * Includes reserved seating\, viewing of the 152nd KY DERBY\, food\, music and dancing\, non-alcoholic/non-specialty drinks (water\, tea\, lemonade)\, photo opportunities\, and $50 in Derby Dollars game money per guest PLUS 1 FREE alcoholic/specialty drink AND 1 commemorative souvenir per guest. \nAdditional:\n· DERBY HAT-MAKING WORKSHOP- $20/per person *Includes hat (large sun hat\, fascinator\, or fedora) and all decorative additions – ribbons\, feathers\, bows\, etc. Limited to 25 participants (all ages welcome). Saturday\, April 25th\, 2-4pm\, at The Jettie Baker Center\, Clintwood\, VA.\n***50% off with purchase of GRANTSTAND Derby Day Party ticket***\nYou will receive a promo code for Hat Workshop discount immediately after your purchase of a GRANDSTAND ticket.
URL:https://jettiebakercenter.com/event/run-for-the-roses-derby-day-party/
LOCATION:The Jettie Baker Center\, 348 Main St\, Clintwood\, VA\, 24228\, United States
ATTACH;FMTTYPE=image/png:https://jettiebakercenter.com/wp-content/uploads/2026/04/Elegant-Derby-Day-Party-Flyer-with-Horse.png
ORGANIZER;CN="Sara%20Phillips":MAILTO:saraphillipsjbc@gmail.com
END:VEVENT
BEGIN:VEVENT
DTSTART;TZID=America/New_York:20260425T140000
DTEND;TZID=America/New_York:20260425T160000
DTSTAMP:20260423T021614
CREATED:20260411T205820Z
LAST-MODIFIED:20260411T205820Z
UID:16750-1777125600-1777132800@jettiebakercenter.com
SUMMARY:DERBY DAY HAT-MAKING WORKSHOP
DESCRIPTION:Celebrate the 152nd Kentucky Derby by making your very own Derby Hat! Join us on April 25 from 2-4 pm for our very first HAT-MAKING WORKSHOP! \nDERBY HAT-MAKING WORKSHOP includes hat (large sun hat\, fascinator\, or fedora) and all decorative additions – ribbons\, feathers\, bows\, etc. This event is limited to 25 participants\, so get your tickets soon! All ages are welcome. Refreshments will be provided. Saturday\, April 25th\, 2-4pm\, at The Jettie Baker Center\, Clintwood\, VA. \nShow off your fancy new Derby hat at our DERBY DAY PARTY on May 2\, 2026 at Jettie Baker Center. Tickets for this event may be purchased separately on Eventbrite. \nTICKETS FOR HAT-MAKING WORKSHOP—->>>  https://www.eventbrite.com/e/derby-hat-making-workshop-tickets-1986842623772 \n  \n***50% off with purchase of GRANDSTAND Derby Day Party ticket*** \nYou will receive your 50% off promo code immediately after your purchase of a GRANDSTAND ticket to our DERBY DAY PARTY (also on Eventbrite).
URL:https://jettiebakercenter.com/event/derby-day-hat-making-workshop/
LOCATION:The Jettie Baker Center\, 348 Main St\, Clintwood\, VA\, 24228\, United States
ATTACH;FMTTYPE=image/png:https://jettiebakercenter.com/wp-content/uploads/2026/04/Derby-hat-Workshop-Cover-Photo.png
ORGANIZER;CN="Sara%20Phillips":MAILTO:saraphillipsjbc@gmail.com
END:VEVENT
END:VCALENDAR