BEGIN:VCALENDAR
VERSION:2.0
PRODID:-//The Jettie Baker Center - ECPv6.1.3//NONSGML v1.0//EN
CALSCALE:GREGORIAN
METHOD:PUBLISH
X-ORIGINAL-URL:https://jettiebakercenter.com
X-WR-CALDESC:Events for The Jettie Baker Center
REFRESH-INTERVAL;VALUE=DURATION:PT1H
X-Robots-Tag:noindex
X-PUBLISHED-TTL:PT1H
BEGIN:VTIMEZONE
TZID:America/New_York
BEGIN:DAYLIGHT
TZOFFSETFROM:-0500
TZOFFSETTO:-0400
TZNAME:EDT
DTSTART:20260308T070000
END:DAYLIGHT
BEGIN:STANDARD
TZOFFSETFROM:-0400
TZOFFSETTO:-0500
TZNAME:EST
DTSTART:20261101T060000
END:STANDARD
END:VTIMEZONE
BEGIN:VEVENT
DTSTART;TZID=America/New_York:20260627T190000
DTEND;TZID=America/New_York:20260627T220000
DTSTAMP:20260423T042438
CREATED:20260411T205041Z
LAST-MODIFIED:20260411T205041Z
UID:16746-1782586800-1782597600@jettiebakercenter.com
SUMMARY:JIM LAUDERDALE & THE GAME CHANGERS
DESCRIPTION:Join us on June 27 at 7pm for Grammy Award winner Jim Lauderdale & The Game Changers! Doors will open at 6:00pm. Showtime is 7pm. Concessions & Cash Bar available! Cards and cash accepted at venue. \nTickets available now—->>>> https://www.eventbrite.com/e/jim-lauderdale-the-game-changers-tickets-1986953663896 \nJim Lauderdale embodies the sound of American roots music for listeners around the world. A 2025 inductee into the Nashville Songwriters Hall of Fame\, Lauderdale will release his 38th and 39th albums in 2026: Country Super Hits Volume 2 and a bluegrass collection\, The Birds Know. His major label debut\,1991’s Planet of Love\, opened the door to international touring and established him as an A-list songwriter on Music Row. His songs have been recorded by George Strait\, Patty Loveless\, George Jones\, the Chicks\, Old Crow Medicine Show\, Lucinda Williams\, Charley Crockett\, Dave Edmunds\, Solomon Burke and many others. Between 2004 and 2013\, Lauderdale wrote and recorded six albums with Grateful Dead songwriter Robert Hunter. His many other collaborators include Buddy Miller\, Elvis Costello\, Donna the Buffalo\, North Mississippi Allstars\, Po’ Ramblin’ Boys\, and Ralph Stanley. In 2016\, Lauderdale received a Lifetime Achievement Award from the Americana Music Association; he’s also won two Grammys in the Best Bluegrass Album category.
URL:https://jettiebakercenter.com/event/jim-lauderdale-the-game-changers/
LOCATION:The Jettie Baker Center\, 348 Main St\, Clintwood\, VA\, 24228\, United States
ATTACH;FMTTYPE=image/png:https://jettiebakercenter.com/wp-content/uploads/2026/04/Music-Concert-Festival-Event-Flyer-1920-x-1080-px_20260407_212924_0000.png
ORGANIZER;CN="Sara%20Phillips":MAILTO:saraphillipsjbc@gmail.com
END:VEVENT
END:VCALENDAR